BEGIN:VCALENDAR
VERSION:2.0
PRODID:-//Washington Farms - ECPv6.15.20//NONSGML v1.0//EN
CALSCALE:GREGORIAN
METHOD:PUBLISH
X-ORIGINAL-URL:https://www.washingtonfarms.net
X-WR-CALDESC:Events for Washington Farms
REFRESH-INTERVAL;VALUE=DURATION:PT1H
X-Robots-Tag:noindex
X-PUBLISHED-TTL:PT1H
BEGIN:VTIMEZONE
TZID:America/New_York
BEGIN:DAYLIGHT
TZOFFSETFROM:-0500
TZOFFSETTO:-0400
TZNAME:EDT
DTSTART:20210314T070000
END:DAYLIGHT
BEGIN:STANDARD
TZOFFSETFROM:-0400
TZOFFSETTO:-0500
TZNAME:EST
DTSTART:20211107T060000
END:STANDARD
BEGIN:DAYLIGHT
TZOFFSETFROM:-0500
TZOFFSETTO:-0400
TZNAME:EDT
DTSTART:20220313T070000
END:DAYLIGHT
BEGIN:STANDARD
TZOFFSETFROM:-0400
TZOFFSETTO:-0500
TZNAME:EST
DTSTART:20221106T060000
END:STANDARD
BEGIN:DAYLIGHT
TZOFFSETFROM:-0500
TZOFFSETTO:-0400
TZNAME:EDT
DTSTART:20230312T070000
END:DAYLIGHT
BEGIN:STANDARD
TZOFFSETFROM:-0400
TZOFFSETTO:-0500
TZNAME:EST
DTSTART:20231105T060000
END:STANDARD
END:VTIMEZONE
BEGIN:VEVENT
DTSTART;TZID=America/New_York:20220406T093000
DTEND;TZID=America/New_York:20220406T133000
DTSTAMP:20260422T064923
CREATED:20220404T181246Z
LAST-MODIFIED:20220727T144136Z
UID:732-1649237400-1649251800@www.washingtonfarms.net
SUMMARY:Wonderful Weekdays
DESCRIPTION:Wonderful Weekdays!\nYou can now come and enjoy all the farm fun on limited weekday mornings during the spring! \nSpring 2022 Dates\n\nWednesday-Friday\, April 20th-22nd\nWednesday-Friday\, April 27th-29th\nWednesday-Friday\, May 4th-6th\nWednesday-Friday\, May 11th-13th\n\nHours: 9:30AM – 1:30PM\nPrice: $12.95 (+tax) Ages 2 and Up \nBUY TICKETS NOW
URL:https://www.washingtonfarms.net/event/wonderful-weekdays/2022-04-06/
CATEGORIES:Wonderful Weekdays
ATTACH;FMTTYPE=image/png:https://www.washingtonfarms.net/wp-content/uploads/2022/04/strawberry-little-girl.png
END:VEVENT
END:VCALENDAR